BEGIN:VCALENDAR
VERSION:2.0
PRODID:-//Kansas-Nebraska Campers on Mission - ECPv6.15.20//NONSGML v1.0//EN
CALSCALE:GREGORIAN
METHOD:PUBLISH
X-WR-CALNAME:Kansas-Nebraska Campers on Mission
X-ORIGINAL-URL:https://campersonmission.org/kansas-nebraska
X-WR-CALDESC:Events for Kansas-Nebraska Campers on Mission
REFRESH-INTERVAL;VALUE=DURATION:PT1H
X-Robots-Tag:noindex
X-PUBLISHED-TTL:PT1H
BEGIN:VTIMEZONE
TZID:America/Chicago
BEGIN:DAYLIGHT
TZOFFSETFROM:-0600
TZOFFSETTO:-0500
TZNAME:CDT
DTSTART:20250309T080000
END:DAYLIGHT
BEGIN:STANDARD
TZOFFSETFROM:-0500
TZOFFSETTO:-0600
TZNAME:CST
DTSTART:20251102T070000
END:STANDARD
BEGIN:DAYLIGHT
TZOFFSETFROM:-0600
TZOFFSETTO:-0500
TZNAME:CDT
DTSTART:20260308T080000
END:DAYLIGHT
BEGIN:STANDARD
TZOFFSETFROM:-0500
TZOFFSETTO:-0600
TZNAME:CST
DTSTART:20261101T070000
END:STANDARD
BEGIN:DAYLIGHT
TZOFFSETFROM:-0600
TZOFFSETTO:-0500
TZNAME:CDT
DTSTART:20270314T080000
END:DAYLIGHT
BEGIN:STANDARD
TZOFFSETFROM:-0500
TZOFFSETTO:-0600
TZNAME:CST
DTSTART:20271107T070000
END:STANDARD
END:VTIMEZONE
BEGIN:VEVENT
DTSTART;TZID=America/Chicago:20261205T120000
DTEND;TZID=America/Chicago:20261205T140000
DTSTAMP:20260424T155841
CREATED:20250525T213445Z
LAST-MODIFIED:20250525T213445Z
UID:1500-1796472000-1796479200@campersonmission.org
SUMMARY:Christmas Dinner
DESCRIPTION:
URL:https://campersonmission.org/kansas-nebraska/event/christmas-dinner-2/
LOCATION:Webster Conference Center\, Salina Kansas
END:VEVENT
END:VCALENDAR